Workbook

Sheet Dashboard
A1: Tableau de bord · Budget mensuel
A2: Les indicateurs se mettent à jour automatiquement depuis la feuille Budget.
A3: Indicateur | B3: Valeur | D3: Catégorie | E3: Prévu | F3: Réel
A4: Budget total | B4: =SUM(Budget!D4:D63) -> 0 | D4: Loyer | E4: =SUMIF(Budget!B4:B63,D4,Budget!D4:D63) -> 0 | F4: =SUMIF(Budget!B4:B63,D4,Budget!E4:E63) -> 0
A5: Dépenses réelles | B5: =SUM(Budget!E4:E63) -> 0 | D5: Transport | E5: =SUMIF(Budget!B4:B63,D5,Budget!D4:D63) -> 0 | F5: =SUMIF(Budget!B4:B63,D5,Budget!E4:E63) -> 0
A6: Écart disponible | B6: =B4-B5 -> 0 | D6: Achats | E6: =SUMIF(Budget!B4:B63,D6,Budget!D4:D63) -> 0 | F6: =SUMIF(Budget!B4:B63,D6,Budget!E4:E63) -> 0
A7: Taux consommé | B7: =IF(B4=0,0,B5/B4) -> 0 | D7: Logiciels | E7: =SUMIF(Budget!B4:B63,D7,Budget!D4:D63) -> 0 | F7: =SUMIF(Budget!B4:B63,D7,Budget!E4:E63) -> 0

Sheet Budget
A1: Budget mensuel
A2: Pilotez votre budget prévu, vos dépenses et les écarts automatiquement.
A3: Date | B3: Catégorie | C3: Description | D3: Budget prévu | E3: Dépense réelle | F3: Écart | G3: % consommé | H3: Statut
B4: Loyer | F4: =D4-E4 -> 0 | G4: =IF(D4=0,0,E4/D4) -> 0 | H4: =IF(E4>D4,"Dépassement",IF(E4=D4,"Atteint","OK")) -> 0
B5: Énergie | F5: =D5-E5 -> 0 | G5: =IF(D5=0,0,E5/D5) -> 0 | H5: =IF(E5>D5,"Dépassement",IF(E5=D5,"Atteint","OK")) -> 0
B6: Télécom | F6: =D6-E6 -> 0 | G6: =IF(D6=0,0,E6/D6) -> 0 | H6: =IF(E6>D6,"Dépassement",IF(E6=D6,"Atteint","OK")) -> 0
B7: Transport | F7: =D7-E7 -> 0 | G7: =IF(D7=0,0,E7/D7) -> 0 | H7: =IF(E7>D7,"Dépassement",IF(E7=D7,"Atteint","OK")) -> 0
B8: Achats | F8: =D8-E8 -> 0 | G8: =IF(D8=0,0,E8/D8) -> 0 | H8: =IF(E8>D8,"Dépassement",IF(E8=D8,"Atteint","OK")) -> 0
B9: Marketing | F9: =D9-E9 -> 0 | G9: =IF(D9=0,0,E9/D9) -> 0 | H9: =IF(E9>D9,"Dépassement",IF(E9=D9,"Atteint","OK")) -> 0
B10: Logiciels | F10: =D10-E10 -> 0 | G10: =IF(D10=0,0,E10/D10) -> 0 | H10: =IF(E10>D10,"Dépassement",IF(E10=D10,"Atteint","OK")) -> 0
B11: Assurances | F11: =D11-E11 -> 0 | G11: =IF(D11=0,0,E11/D11) -> 0 | H11: =IF(E11>D11,"Dépassement",IF(E11=D11,"Atteint","OK")) -> 0
B12: Frais bancaires | F12: =D12-E12 -> 0 | G12: =IF(D12=0,0,E12/D12) -> 0 | H12: =IF(E12>D12,"Dépassement",IF(E12=D12,"Atteint","OK")) -> 0
B13: Divers | F13: =D13-E13 -> 0 | G13: =IF(D13=0,0,E13/D13) -> 0 | H13: =IF(E13>D13,"Dépassement",IF(E13=D13,"Atteint","OK")) -> 0
B14: Loyer | F14: =D14-E14 -> 0 | G14: =IF(D14=0,0,E14/D14) -> 0 | H14: =IF(E14>D14,"Dépassement",IF(E14=D14,"Atteint","OK")) -> 0
B15: Énergie | F15: =D15-E15 -> 0 | G15: =IF(D15=0,0,E15/D15) -> 0 | H15: =IF(E15>D15,"Dépassement",IF(E15=D15,"Atteint","OK")) -> 0
... B63: Divers | F63: =D63-E63 -> 0 | G63: =IF(D63=0,0,E63/D63) -> 0 | H63: =IF(E63>D63,"Dépassement",IF(E63=D63,"Atteint","OK")) -> 0
