Workbook

Sheet Dashboard
A1: Dashboard · Stock
A2: Indicateurs calculés automatiquement.
A3: Indicateur | B3: Valeur | C3: Indicateur | D3: Valeur
A4: Valeur du stock | B4: =SUM(Stock!K4:K83) -> 0 | C4: Articles en alerte | D4: =COUNTIF(Stock!I4:I83,"À commander") -> 0
A5: Références actives | B5: =COUNTIF(Stock!A4:A83,"<>") -> 0 | C5: Unités en stock | D5: =SUM(Stock!G4:G83) -> 0

Sheet Stock
A1: Gestion de stock
A2: Les entrées et sorties remontent depuis la feuille Mouvements.
A3: SKU | B3: Produit | C3: Catégorie | D3: Stock initial | E3: Entrées | F3: Sorties | G3: Stock actuel | H3: Stock mini | I3: Alerte | J3: Prix unitaire | K3: Valeur stock
E4: =SUMIFS(Mouvements!F$4:F$203,Mouvements!B$4:B$203,A4,Mouvements!D$4:D$203,"Entrée") -> 0 | F4: =SUMIFS(Mouvements!F$4:F$203,Mouvements!B$4:B$203,A4,Mouvements!D$4:D$203,"Sortie") -> 0 | G4: =D4+E4-F4 -> 0 | I4: =IF(G4<=H4,"À commander","OK") -> 0 | K4: =G4*J4 -> 0
E5: =SUMIFS(Mouvements!F$4:F$203,Mouvements!B$4:B$203,A5,Mouvements!D$4:D$203,"Entrée") -> 0 | F5: =SUMIFS(Mouvements!F$4:F$203,Mouvements!B$4:B$203,A5,Mouvements!D$4:D$203,"Sortie") -> 0 | G5: =D5+E5-F5 -> 0 | I5: =IF(G5<=H5,"À commander","OK") -> 0 | K5: =G5*J5 -> 0
E6: =SUMIFS(Mouvements!F$4:F$203,Mouvements!B$4:B$203,A6,Mouvements!D$4:D$203,"Entrée") -> 0 | F6: =SUMIFS(Mouvements!F$4:F$203,Mouvements!B$4:B$203,A6,Mouvements!D$4:D$203,"Sortie") -> 0 | G6: =D6+E6-F6 -> 0 | I6: =IF(G6<=H6,"À commander","OK") -> 0 | K6: =G6*J6 -> 0
E7: =SUMIFS(Mouvements!F$4:F$203,Mouvements!B$4:B$203,A7,Mouvements!D$4:D$203,"Entrée") -> 0 | F7: =SUMIFS(Mouvements!F$4:F$203,Mouvements!B$4:B$203,A7,Mouvements!D$4:D$203,"Sortie") -> 0 | G7: =D7+E7-F7 -> 0 | I7: =IF(G7<=H7,"À commander","OK") -> 0 | K7: =G7*J7 -> 0
E8: =SUMIFS(Mouvements!F$4:F$203,Mouvements!B$4:B$203,A8,Mouvements!D$4:D$203,"Entrée") -> 0 | F8: =SUMIFS(Mouvements!F$4:F$203,Mouvements!B$4:B$203,A8,Mouvements!D$4:D$203,"Sortie") -> 0 | G8: =D8+E8-F8 -> 0 | I8: =IF(G8<=H8,"À commander","OK") -> 0 | K8: =G8*J8 -> 0
E9: =SUMIFS(Mouvements!F$4:F$203,Mouvements!B$4:B$203,A9,Mouvements!D$4:D$203,"Entrée") -> 0 | F9: =SUMIFS(Mouvements!F$4:F$203,Mouvements!B$4:B$203,A9,Mouvements!D$4:D$203,"Sortie") -> 0 | G9: =D9+E9-F9 -> 0 | I9: =IF(G9<=H9,"À commander","OK") -> 0 | K9: =G9*J9 -> 0
E10: =SUMIFS(Mouvements!F$4:F$203,Mouvements!B$4:B$203,A10,Mouvements!D$4:D$203,"Entrée") -> 0 | F10: =SUMIFS(Mouvements!F$4:F$203,Mouvements!B$4:B$203,A10,Mouvements!D$4:D$203,"Sortie") -> 0 | G10: =D10+E10-F10 -> 0 | I10: =IF(G10<=H10,"À commander","OK") -> 0 | K10: =G10*J10 -> 0
E11: =SUMIFS(Mouvements!F$4:F$203,Mouvements!B$4:B$203,A11,Mouvements!D$4:D$203,"Entrée") -> 0 | F11: =SUMIFS(Mouvements!F$4:F$203,Mouvements!B$4:B$203,A11,Mouvements!D$4:D$203,"Sortie") -> 0 | G11: =D11+E11-F11 -> 0 | I11: =IF(G11<=H11,"À commander","OK") -> 0 | K11: =G11*J11 -> 0
E12: =SUMIFS(Mouvements!F$4:F$203,Mouvements!B$4:B$203,A12,Mouvements!D$4:D$203,"Entrée") -> 0 | F12: =SUMIFS(Mouvements!F$4:F$203,Mouvements!B$4:B$203,A12,Mouvements!D$4:D$203,"Sortie") -> 0 | G12: =D12+E12-F12 -> 0 | I12: =IF(G12<=H12,"À commander","OK") -> 0 | K12: =G12*J12 -> 0
E13: =SUMIFS(Mouvements!F$4:F$203,Mouvements!B$4:B$203,A13,Mouvements!D$4:D$203,"Entrée") -> 0 | F13: =SUMIFS(Mouvements!F$4:F$203,Mouvements!B$4:B$203,A13,Mouvements!D$4:D$203,"Sortie") -> 0 | G13: =D13+E13-F13 -> 0 | I13: =IF(G13<=H13,"À commander","OK") -> 0 | K13: =G13*J13 -> 0
E14: =SUMIFS(Mouvements!F$4:F$203,Mouvements!B$4:B$203,A14,Mouvements!D$4:D$203,"Entrée") -> 0 | F14: =SUMIFS(Mouvements!F$4:F$203,Mouvements!B$4:B$203,A14,Mouvements!D$4:D$203,"Sortie") -> 0 | G14: =D14+E14-F14 -> 0 | I14: =IF(G14<=H14,"À commander","OK") -> 0 | K14: =G14*J14 -> 0
E15: =SUMIFS(Mouvements!F$4:F$203,Mouvements!B$4:B$203,A15,Mouvements!D$4:D$203,"Entrée") -> 0 | F15: =SUMIFS(Mouvements!F$4:F$203,Mouvements!B$4:B$203,A15,Mouvements!D$4:D$203,"Sortie") -> 0 | G15: =D15+E15-F15 -> 0 | I15: =IF(G15<=H15,"À commander","OK") -> 0 | K15: =G15*J15 -> 0
... E83: =SUMIFS(Mouvements!F$4:F$203,Mouvements!B$4:B$203,A83,Mouvements!D$4:D$203,"Entrée") -> 0 | F83: =SUMIFS(Mouvements!F$4:F$203,Mouvements!B$4:B$203,A83,Mouvements!D$4:D$203,"Sortie") -> 0 | G83: =D83+E83-F83 -> 0 | I83: =IF(G83<=H83,"À commander","OK") -> 0 | K83: =G83*J83 -> 0

Sheet Mouvements
A1: Mouvements de stock
A2: Saisissez chaque entrée et sortie pour mettre à jour le stock.
A3: Date | B3: SKU | C3: Produit | D3: Type | E3: Document | F3: Quantité | G3: Commentaire
